BEGIN:VCALENDAR
VERSION:2.0
PRODID:-//CHICKEN BLOW THE IDOL Offical Site - ECPv6.0.8//NONSGML v1.0//EN
CALSCALE:GREGORIAN
METHOD:PUBLISH
X-WR-CALNAME:CHICKEN BLOW THE IDOL Offical Site
X-ORIGINAL-URL:https://chicken-idol.com
X-WR-CALDESC:CHICKEN BLOW THE IDOL Offical Site のイベント
REFRESH-INTERVAL;VALUE=DURATION:PT1H
X-Robots-Tag:noindex
X-PUBLISHED-TTL:PT1H
BEGIN:VTIMEZONE
TZID:Asia/Tokyo
BEGIN:STANDARD
TZOFFSETFROM:+0900
TZOFFSETTO:+0900
TZNAME:JST
DTSTART:20230101T000000
END:STANDARD
END:VTIMEZONE
BEGIN:VEVENT
DTSTART;VALUE=DATE:20230204
DTEND;VALUE=DATE:20230205
DTSTAMP:20260423T075515
CREATED:20230202T124048Z
LAST-MODIFIED:20230202T124048Z
UID:544-1675468800-1675555199@chicken-idol.com
SUMMARY:《名古屋遠征》
DESCRIPTION:『RAD iD LIVE -code L-』 \n@ Lion Theater \n☀️昼の部\n開場/13:00 開演/13:30\n当日券のみ ¥2000(+D) \n出演　14:20-14:45\n特典会　16:35-17:35 終演後物販\n(ライオンシアター&ライオンカフェにて) \n\n『RAD iD LIVE -code L2-』 \n@ Lion Theater \n🌙夜の部\n開場/18:10 開演/18:40\n当日券のみ ¥2000(+D) \n出演　20:45-21:10\n特典会　21:20-22:20 終演後一斉物販\n(ライオンシアター&ライオンカフェにて)
URL:https://chicken-idol.com/schedule/%e3%80%8a%e5%90%8d%e5%8f%a4%e5%b1%8b%e9%81%a0%e5%be%81%e3%80%8b
LOCATION:Lion  theater\, 〒460-0008 愛知県名古屋市中区栄1-22-2 ライオンズ名古屋ビル 地下
END:VEVENT
BEGIN:VEVENT
DTSTART;VALUE=DATE:20230129
DTEND;VALUE=DATE:20230130
DTSTAMP:20260423T075515
CREATED:20230117T064438Z
LAST-MODIFIED:20230117T064828Z
UID:322-1674950400-1675036799@chicken-idol.com
SUMMARY:≪タイ遠征≫
DESCRIPTION:
URL:https://chicken-idol.com/schedule/%e2%89%aa%e3%82%bf%e3%82%a4%e9%81%a0%e5%be%81%e2%89%ab
END:VEVENT
BEGIN:VEVENT
DTSTART;TZID=Asia/Tokyo:20230128T130000
DTEND;TZID=Asia/Tokyo:20230128T180000
DTSTAMP:20260423T075515
CREATED:20230117T055151Z
LAST-MODIFIED:20230117T062542Z
UID:303-1674910800-1674928800@chicken-idol.com
SUMMARY:≪タイ遠征≫MYSTERIOUS INVITATION
DESCRIPTION:
URL:https://chicken-idol.com/schedule/test
LOCATION:Kantana Sound Studio\, 333/8 Pracha Uthit Rd\, Samsen Nok\,\, Huai Khwang\,\, Bangkok\, 10310\, タイ
END:VEVENT
END:VCALENDAR