BEGIN:VCALENDAR
VERSION:2.0
PRODID:-//CHICKEN BLOW THE IDOL Offical Site - ECPv6.0.8//NONSGML v1.0//EN
CALSCALE:GREGORIAN
METHOD:PUBLISH
X-WR-CALNAME:CHICKEN BLOW THE IDOL Offical Site
X-ORIGINAL-URL:https://chicken-idol.com
X-WR-CALDESC:CHICKEN BLOW THE IDOL Offical Site のイベント
REFRESH-INTERVAL;VALUE=DURATION:PT1H
X-Robots-Tag:noindex
X-PUBLISHED-TTL:PT1H
BEGIN:VTIMEZONE
TZID:Asia/Tokyo
BEGIN:STANDARD
TZOFFSETFROM:+0900
TZOFFSETTO:+0900
TZNAME:JST
DTSTART:20230101T000000
END:STANDARD
END:VTIMEZONE
BEGIN:VEVENT
DTSTART;VALUE=DATE:20230603
DTEND;VALUE=DATE:20230605
DTSTAMP:20260422T221629
CREATED:20230202T130401Z
LAST-MODIFIED:20230202T130401Z
UID:555-1685750400-1685923199@chicken-idol.com
SUMMARY:《北海道遠征》
DESCRIPTION:
URL:https://chicken-idol.com/schedule/%e3%80%8a%e5%8c%97%e6%b5%b7%e9%81%93%e9%81%a0%e5%be%81%e3%80%8b
END:VEVENT
END:VCALENDAR