BEGIN:VCALENDAR
VERSION:2.0
PRODID:-//CHICKEN BLOW THE IDOL Offical Site - ECPv6.0.8//NONSGML v1.0//EN
CALSCALE:GREGORIAN
METHOD:PUBLISH
X-WR-CALNAME:CHICKEN BLOW THE IDOL Offical Site
X-ORIGINAL-URL:https://chicken-idol.com
X-WR-CALDESC:CHICKEN BLOW THE IDOL Offical Site のイベント
REFRESH-INTERVAL;VALUE=DURATION:PT1H
X-Robots-Tag:noindex
X-PUBLISHED-TTL:PT1H
BEGIN:VTIMEZONE
TZID:Asia/Tokyo
BEGIN:STANDARD
TZOFFSETFROM:+0900
TZOFFSETTO:+0900
TZNAME:JST
DTSTART:20230101T000000
END:STANDARD
END:VTIMEZONE
BEGIN:VEVENT
DTSTART;VALUE=DATE:20230715
DTEND;VALUE=DATE:20230716
DTSTAMP:20260422T203922
CREATED:20230117T073105Z
LAST-MODIFIED:20230117T073105Z
UID:338-1689379200-1689465599@chicken-idol.com
SUMMARY:≪滋賀遠征≫
DESCRIPTION:
URL:https://chicken-idol.com/schedule/%e2%89%aa%e6%bb%8b%e8%b3%80%e9%81%a0%e5%be%81%e2%89%ab-3
LOCATION:U☆STONE\, 粟津町１１−１２ ユーストンビル 2F\, 大津市\, 滋賀県\, 5200832\, 日本
END:VEVENT
BEGIN:VEVENT
DTSTART;VALUE=DATE:20230716
DTEND;VALUE=DATE:20230717
DTSTAMP:20260422T203922
CREATED:20230117T073139Z
LAST-MODIFIED:20230117T073151Z
UID:340-1689465600-1689551999@chicken-idol.com
SUMMARY:≪滋賀遠征≫
DESCRIPTION:
URL:https://chicken-idol.com/schedule/%e6%bb%8b%e8%b3%80%e9%81%a0%e5%be%81
LOCATION:U☆STONE\, 粟津町１１−１２ ユーストンビル 2F\, 大津市\, 滋賀県\, 5200832\, 日本
END:VEVENT
BEGIN:VEVENT
DTSTART;VALUE=DATE:20230717
DTEND;VALUE=DATE:20230718
DTSTAMP:20260422T203922
CREATED:20230117T073226Z
LAST-MODIFIED:20230117T073226Z
UID:343-1689552000-1689638399@chicken-idol.com
SUMMARY:≪滋賀遠征≫
DESCRIPTION:
URL:https://chicken-idol.com/schedule/%e2%89%aa%e6%bb%8b%e8%b3%80%e9%81%a0%e5%be%81%e2%89%ab-4
LOCATION:U☆STONE\, 粟津町１１−１２ ユーストンビル 2F\, 大津市\, 滋賀県\, 5200832\, 日本
END:VEVENT
END:VCALENDAR