BEGIN:VCALENDAR
VERSION:2.0
PRODID:-//CHICKEN BLOW THE IDOL Offical Site - ECPv6.0.8//NONSGML v1.0//EN
CALSCALE:GREGORIAN
METHOD:PUBLISH
X-WR-CALNAME:CHICKEN BLOW THE IDOL Offical Site
X-ORIGINAL-URL:https://chicken-idol.com
X-WR-CALDESC:CHICKEN BLOW THE IDOL Offical Site のイベント
REFRESH-INTERVAL;VALUE=DURATION:PT1H
X-Robots-Tag:noindex
X-PUBLISHED-TTL:PT1H
BEGIN:VTIMEZONE
TZID:Asia/Tokyo
BEGIN:STANDARD
TZOFFSETFROM:+0900
TZOFFSETTO:+0900
TZNAME:JST
DTSTART:20230101T000000
END:STANDARD
END:VTIMEZONE
BEGIN:VEVENT
DTSTART;VALUE=DATE:20230926
DTEND;VALUE=DATE:20230927
DTSTAMP:20260422T190216
CREATED:20230117T080210Z
LAST-MODIFIED:20230117T080213Z
UID:346-1695686400-1695772799@chicken-idol.com
SUMMARY:≪ワンマンライブ≫
DESCRIPTION:
URL:https://chicken-idol.com/schedule/%e2%89%aa%e3%83%af%e3%83%b3%e3%83%9e%e3%83%b3%e3%83%a9%e3%82%a4%e3%83%96%e2%89%ab
LOCATION:Zepp Shinjuku\, 歌舞伎町1-29　東急歌舞伎町タワーB1F～B4F\, 新宿区\, 東京都\, 1600021\, 日本
END:VEVENT
END:VCALENDAR