BEGIN:VCALENDAR
VERSION:2.0
PRODID:-//CHICKEN BLOW THE IDOL Offical Site - ECPv6.0.8//NONSGML v1.0//EN
CALSCALE:GREGORIAN
METHOD:PUBLISH
X-ORIGINAL-URL:https://chicken-idol.com
X-WR-CALDESC:CHICKEN BLOW THE IDOL Offical Site のイベント
REFRESH-INTERVAL;VALUE=DURATION:PT1H
X-Robots-Tag:noindex
X-PUBLISHED-TTL:PT1H
BEGIN:VTIMEZONE
TZID:Asia/Tokyo
BEGIN:STANDARD
TZOFFSETFROM:+0900
TZOFFSETTO:+0900
TZNAME:JST
DTSTART:20230101T000000
END:STANDARD
END:VTIMEZONE
BEGIN:VEVENT
DTSTART;VALUE=DATE:20230226
DTEND;VALUE=DATE:20230227
DTSTAMP:20260423T061513
CREATED:20230117T072433Z
LAST-MODIFIED:20230215T163025Z
UID:331-1677369600-1677455999@chicken-idol.com
SUMMARY:《滋賀遠征》
DESCRIPTION:  \n  \n『McDog Party』\n@滋賀・石山U★STONE\nadv¥2\,500/door¥3\,500\n2DAYS通しチケ（3公演分）\n¥6\,000
URL:https://chicken-idol.com/schedule/%e2%89%aa%e6%bb%8b%e8%b3%80%e9%81%a0%e5%be%81%e2%89%ab-2
LOCATION:U☆STONE\, 粟津町１１−１２ ユーストンビル 2F\, 大津市\, 滋賀県\, 5200832\, 日本
END:VEVENT
END:VCALENDAR