BEGIN:VCALENDAR
VERSION:2.0
PRODID:-//CHICKEN BLOW THE IDOL Offical Site - ECPv6.0.8//NONSGML v1.0//EN
CALSCALE:GREGORIAN
METHOD:PUBLISH
X-ORIGINAL-URL:https://chicken-idol.com
X-WR-CALDESC:CHICKEN BLOW THE IDOL Offical Site のイベント
REFRESH-INTERVAL;VALUE=DURATION:PT1H
X-Robots-Tag:noindex
X-PUBLISHED-TTL:PT1H
BEGIN:VTIMEZONE
TZID:Asia/Tokyo
BEGIN:STANDARD
TZOFFSETFROM:+0900
TZOFFSETTO:+0900
TZNAME:JST
DTSTART:20230101T000000
END:STANDARD
END:VTIMEZONE
BEGIN:VEVENT
DTSTART;VALUE=DATE:20230227
DTEND;VALUE=DATE:20230228
DTSTAMP:20260423T043802
CREATED:20230215T162653Z
LAST-MODIFIED:20230215T162653Z
UID:580-1677456000-1677542399@chicken-idol.com
SUMMARY:《都内LIVE》
DESCRIPTION:@新宿WALLY\nOPEN 17:15/START 17:45\n前方優先 ¥3\,500+1D\n前売り ¥1\,500+1D\n当日前方 ¥4\,000+1D\n当日 ¥2\,000+1D\nALLスタンディング\n※声出し可
URL:https://chicken-idol.com/schedule/%e3%80%8a%e9%83%bd%e5%86%85live%e3%80%8b-5
LOCATION:新宿WALLY
END:VEVENT
END:VCALENDAR