BEGIN:VCALENDAR
VERSION:2.0
PRODID:-//CHICKEN BLOW THE IDOL Offical Site - ECPv6.0.8//NONSGML v1.0//EN
CALSCALE:GREGORIAN
METHOD:PUBLISH
X-WR-CALNAME:CHICKEN BLOW THE IDOL Offical Site
X-ORIGINAL-URL:https://chicken-idol.com
X-WR-CALDESC:CHICKEN BLOW THE IDOL Offical Site のイベント
REFRESH-INTERVAL;VALUE=DURATION:PT1H
X-Robots-Tag:noindex
X-PUBLISHED-TTL:PT1H
BEGIN:VTIMEZONE
TZID:Asia/Tokyo
BEGIN:STANDARD
TZOFFSETFROM:+0900
TZOFFSETTO:+0900
TZNAME:JST
DTSTART:20230101T000000
END:STANDARD
END:VTIMEZONE
BEGIN:VEVENT
DTSTART;VALUE=DATE:20230307
DTEND;VALUE=DATE:20230308
DTSTAMP:20260423T043628
CREATED:20230202T130037Z
LAST-MODIFIED:20230202T130037Z
UID:548-1678147200-1678233599@chicken-idol.com
SUMMARY:《都内LIVE》
DESCRIPTION:主催ライブ『Phantoms  by ALL』vol.11 \n@池袋EDGE \n-詳細後日-
URL:https://chicken-idol.com/schedule/%e3%80%8a%e9%83%bd%e5%86%85live%e3%80%8b
LOCATION:池袋EDGE\, 〒171-0022 東京都豊島区南池袋１丁目２３−６ ＫＤＧ池袋ビル
END:VEVENT
END:VCALENDAR