BEGIN:VCALENDAR
VERSION:2.0
PRODID:-//CHICKEN BLOW THE IDOL Offical Site - ECPv6.0.8//NONSGML v1.0//EN
CALSCALE:GREGORIAN
METHOD:PUBLISH
X-ORIGINAL-URL:https://chicken-idol.com
X-WR-CALDESC:CHICKEN BLOW THE IDOL Offical Site のイベント
REFRESH-INTERVAL;VALUE=DURATION:PT1H
X-Robots-Tag:noindex
X-PUBLISHED-TTL:PT1H
BEGIN:VTIMEZONE
TZID:Asia/Tokyo
BEGIN:STANDARD
TZOFFSETFROM:+0900
TZOFFSETTO:+0900
TZNAME:JST
DTSTART:20230101T000000
END:STANDARD
END:VTIMEZONE
BEGIN:VEVENT
DTSTART;VALUE=DATE:20230318
DTEND;VALUE=DATE:20230319
DTSTAMP:20260423T043714
CREATED:20230117T072859Z
LAST-MODIFIED:20230117T072859Z
UID:333-1679097600-1679183999@chicken-idol.com
SUMMARY:≪福島遠征≫
DESCRIPTION:
URL:https://chicken-idol.com/schedule/%e2%89%aa%e7%a6%8f%e5%b3%b6%e9%81%a0%e5%be%81%e2%89%ab
LOCATION:club SONIC iwaki\, 平大工町9-2\, いわき市\, 福島県\, 9708026
END:VEVENT
END:VCALENDAR