BEGIN:VCALENDAR
VERSION:2.0
PRODID:-//CHICKEN BLOW THE IDOL Offical Site - ECPv6.0.8//NONSGML v1.0//EN
CALSCALE:GREGORIAN
METHOD:PUBLISH
X-ORIGINAL-URL:https://chicken-idol.com
X-WR-CALDESC:CHICKEN BLOW THE IDOL Offical Site のイベント
REFRESH-INTERVAL;VALUE=DURATION:PT1H
X-Robots-Tag:noindex
X-PUBLISHED-TTL:PT1H
BEGIN:VTIMEZONE
TZID:Asia/Tokyo
BEGIN:STANDARD
TZOFFSETFROM:+0900
TZOFFSETTO:+0900
TZNAME:JST
DTSTART:20230101T000000
END:STANDARD
END:VTIMEZONE
BEGIN:VEVENT
DTSTART;VALUE=DATE:20230405
DTEND;VALUE=DATE:20230406
DTSTAMP:20260423T030327
CREATED:20230202T130207Z
LAST-MODIFIED:20230202T130208Z
UID:551-1680652800-1680739199@chicken-idol.com
SUMMARY:《都内LIVE》
DESCRIPTION:主催ライブ『Phantoms  by ALL』vol.12 \n@池袋EDGE \n-詳細後日-
URL:https://chicken-idol.com/schedule/%e3%80%8a%e9%83%bd%e5%86%85live%e3%80%8b-2
LOCATION:池袋EDGE\, 〒171-0022 東京都豊島区南池袋１丁目２３−６ ＫＤＧ池袋ビル
END:VEVENT
END:VCALENDAR