BEGIN:VCALENDAR
VERSION:2.0
PRODID:-//CHICKEN BLOW THE IDOL Offical Site - ECPv6.0.8//NONSGML v1.0//EN
CALSCALE:GREGORIAN
METHOD:PUBLISH
X-ORIGINAL-URL:https://chicken-idol.com
X-WR-CALDESC:CHICKEN BLOW THE IDOL Offical Site のイベント
REFRESH-INTERVAL;VALUE=DURATION:PT1H
X-Robots-Tag:noindex
X-PUBLISHED-TTL:PT1H
BEGIN:VTIMEZONE
TZID:Asia/Tokyo
BEGIN:STANDARD
TZOFFSETFROM:+0900
TZOFFSETTO:+0900
TZNAME:JST
DTSTART:20230101T000000
END:STANDARD
END:VTIMEZONE
BEGIN:VEVENT
DTSTART;VALUE=DATE:20230430
DTEND;VALUE=DATE:20230501
DTSTAMP:20260423T030318
CREATED:20230219T165354Z
LAST-MODIFIED:20230219T165354Z
UID:606-1682812800-1682899199@chicken-idol.com
SUMMARY:《都内LIVE》
DESCRIPTION:
URL:https://chicken-idol.com/schedule/%e3%80%8a%e9%83%bd%e5%86%85live%e3%80%8b-7
LOCATION:下北沢ろくでもない夜
END:VEVENT
END:VCALENDAR