BEGIN:VCALENDAR
VERSION:2.0
PRODID:-//CHICKEN BLOW THE IDOL Offical Site - ECPv6.0.8//NONSGML v1.0//EN
CALSCALE:GREGORIAN
METHOD:PUBLISH
X-ORIGINAL-URL:https://chicken-idol.com
X-WR-CALDESC:CHICKEN BLOW THE IDOL Offical Site のイベント
REFRESH-INTERVAL;VALUE=DURATION:PT1H
X-Robots-Tag:noindex
X-PUBLISHED-TTL:PT1H
BEGIN:VTIMEZONE
TZID:Asia/Tokyo
BEGIN:STANDARD
TZOFFSETFROM:+0900
TZOFFSETTO:+0900
TZNAME:JST
DTSTART:20230101T000000
END:STANDARD
END:VTIMEZONE
BEGIN:VEVENT
DTSTART;VALUE=DATE:20230506
DTEND;VALUE=DATE:20230507
DTSTAMP:20260423T012055
CREATED:20230215T163338Z
LAST-MODIFIED:20230215T163338Z
UID:590-1683331200-1683417599@chicken-idol.com
SUMMARY:《野外撮影会》
DESCRIPTION:
URL:https://chicken-idol.com/schedule/%e3%80%8a%e9%87%8e%e5%a4%96%e6%92%ae%e5%bd%b1%e4%bc%9a%e3%80%8b
END:VEVENT
END:VCALENDAR