BEGIN:VCALENDAR
VERSION:2.0
PRODID:-//CHICKEN BLOW THE IDOL Offical Site - ECPv6.0.8//NONSGML v1.0//EN
CALSCALE:GREGORIAN
METHOD:PUBLISH
X-ORIGINAL-URL:https://chicken-idol.com
X-WR-CALDESC:CHICKEN BLOW THE IDOL Offical Site のイベント
REFRESH-INTERVAL;VALUE=DURATION:PT1H
X-Robots-Tag:noindex
X-PUBLISHED-TTL:PT1H
BEGIN:VTIMEZONE
TZID:Asia/Tokyo
BEGIN:STANDARD
TZOFFSETFROM:+0900
TZOFFSETTO:+0900
TZNAME:JST
DTSTART:20240101T000000
END:STANDARD
END:VTIMEZONE
BEGIN:VEVENT
DTSTART;VALUE=DATE:20240118
DTEND;VALUE=DATE:20240119
DTSTAMP:20260422T122159
CREATED:20240113T170419Z
LAST-MODIFIED:20240113T170419Z
UID:638-1705536000-1705622399@chicken-idol.com
SUMMARY:南十字星vol.10 -DAY2-
DESCRIPTION:2024年1月18（木） \nCHICKEN BLOW THE IDOL \n名古屋単独公演10th記念2Days LIVE \n『南十字星』 @今池3STAR \nopen18:30/start19:00 adv¥2\,500+1D/door¥3\,000+1D \n【入場無料】女性・未成年※1D代のみ \n【出演】 \nCHICKEN BLOW THE IDOL \nてのひらえる
URL:https://chicken-idol.com/schedule/%e5%8d%97%e5%8d%81%e5%ad%97%e6%98%9fvol-10-day2
LOCATION:今池3STAR
END:VEVENT
END:VCALENDAR