BEGIN:VCALENDAR
VERSION:2.0
PRODID:-//CHICKEN BLOW THE IDOL Offical Site - ECPv6.0.8//NONSGML v1.0//EN
CALSCALE:GREGORIAN
METHOD:PUBLISH
X-WR-CALNAME:CHICKEN BLOW THE IDOL Offical Site
X-ORIGINAL-URL:https://chicken-idol.com
X-WR-CALDESC:CHICKEN BLOW THE IDOL Offical Site のイベント
REFRESH-INTERVAL;VALUE=DURATION:PT1H
X-Robots-Tag:noindex
X-PUBLISHED-TTL:PT1H
BEGIN:VTIMEZONE
TZID:Asia/Tokyo
BEGIN:STANDARD
TZOFFSETFROM:+0900
TZOFFSETTO:+0900
TZNAME:JST
DTSTART:20240101T000000
END:STANDARD
END:VTIMEZONE
BEGIN:VEVENT
DTSTART;VALUE=DATE:20240121
DTEND;VALUE=DATE:20240122
DTSTAMP:20260422T122119
CREATED:20240113T170709Z
LAST-MODIFIED:20240113T170709Z
UID:642-1705795200-1705881599@chicken-idol.com
SUMMARY:風花あっさ生誕祭「完璧主義」
DESCRIPTION:2024年1月21日（日） \nCHICKEN BLOW THE IDOL 風花あっさ生誕祭 「完璧主義」 @目黒鹿鳴館 \nopen16:30/start17:00 adv¥3\,000+1D/door¥3\,500+1D \n【出演】 CHICKEN BLOW THE IDOL / 姫事絶対値 / 黑黒 / 負けない僕等は雨の降る世界で猫と踊る。 / かげつ / GUMi
URL:https://chicken-idol.com/schedule/%e9%a2%a8%e8%8a%b1%e3%81%82%e3%81%a3%e3%81%95%e7%94%9f%e8%aa%95%e7%a5%ad%e3%80%8c%e5%ae%8c%e7%92%a7%e4%b8%bb%e7%be%a9%e3%80%8d
LOCATION:目黒鹿鳴館
END:VEVENT
END:VCALENDAR