BEGIN:VCALENDAR
VERSION:2.0
PRODID:-//CHICKEN BLOW THE IDOL Offical Site - ECPv6.0.8//NONSGML v1.0//EN
CALSCALE:GREGORIAN
METHOD:PUBLISH
X-ORIGINAL-URL:https://chicken-idol.com
X-WR-CALDESC:CHICKEN BLOW THE IDOL Offical Site のイベント
REFRESH-INTERVAL;VALUE=DURATION:PT1H
X-Robots-Tag:noindex
X-PUBLISHED-TTL:PT1H
BEGIN:VTIMEZONE
TZID:Asia/Tokyo
BEGIN:STANDARD
TZOFFSETFROM:+0900
TZOFFSETTO:+0900
TZNAME:JST
DTSTART:20240101T000000
END:STANDARD
END:VTIMEZONE
BEGIN:VEVENT
DTSTART;VALUE=DATE:20240126
DTEND;VALUE=DATE:20240127
DTSTAMP:20260422T122159
CREATED:20240113T170933Z
LAST-MODIFIED:20240113T170933Z
UID:649-1706227200-1706313599@chicken-idol.com
SUMMARY:AdFicTioN CHIHIRO生誕「雲の上はいつも晴れ」
DESCRIPTION:1/26(金) \nAdFicTioN CHIHIRO生誕 \n“雲の上はいつも晴れ”@目黒鹿鳴館 \n前売2\,500円/当日3\,000円(+各1D) \nOPEN18:20 START 18:50 \n 
URL:https://chicken-idol.com/schedule/adfiction-chihiro%e7%94%9f%e8%aa%95%e3%80%8c%e9%9b%b2%e3%81%ae%e4%b8%8a%e3%81%af%e3%81%84%e3%81%a4%e3%82%82%e6%99%b4%e3%82%8c%e3%80%8d
LOCATION:目黒鹿鳴館
END:VEVENT
END:VCALENDAR