BEGIN:VCALENDAR
VERSION:2.0
PRODID:-//CHICKEN BLOW THE IDOL Offical Site - ECPv6.0.8//NONSGML v1.0//EN
CALSCALE:GREGORIAN
METHOD:PUBLISH
X-WR-CALNAME:CHICKEN BLOW THE IDOL Offical Site
X-ORIGINAL-URL:https://chicken-idol.com
X-WR-CALDESC:CHICKEN BLOW THE IDOL Offical Site のイベント
REFRESH-INTERVAL;VALUE=DURATION:PT1H
X-Robots-Tag:noindex
X-PUBLISHED-TTL:PT1H
BEGIN:VTIMEZONE
TZID:Asia/Tokyo
BEGIN:STANDARD
TZOFFSETFROM:+0900
TZOFFSETTO:+0900
TZNAME:JST
DTSTART:20240101T000000
END:STANDARD
END:VTIMEZONE
BEGIN:VEVENT
DTSTART;VALUE=DATE:20240128
DTEND;VALUE=DATE:20240129
DTSTAMP:20260422T122105
CREATED:20240113T171106Z
LAST-MODIFIED:20240113T171106Z
UID:651-1706400000-1706486399@chicken-idol.com
SUMMARY:PEPE FES vol.43〜Greatest Lovers Only〜
DESCRIPTION:2024年1月28日（日） \n「PEPE FES vol.43〜Greatest Lovers Only」 \n開場17:00/開演17:15 \n各前売¥2400/当日¥2900+1D
URL:https://chicken-idol.com/schedule/pepe-fes-vol-43%e3%80%9cgreatest-lovers-only%e3%80%9c
LOCATION:目黒鹿鳴館
END:VEVENT
END:VCALENDAR